BEGIN:VCALENDAR
VERSION:2.0
PRODID:-//Blink High End - ECPv6.15.17.1//NONSGML v1.0//EN
CALSCALE:GREGORIAN
METHOD:PUBLISH
X-ORIGINAL-URL:https://blinkhighend.com
X-WR-CALDESC:Events for Blink High End
REFRESH-INTERVAL;VALUE=DURATION:PT1H
X-Robots-Tag:noindex
X-PUBLISHED-TTL:PT1H
BEGIN:VTIMEZONE
TZID:UTC
BEGIN:STANDARD
TZOFFSETFROM:+0000
TZOFFSETTO:+0000
TZNAME:UTC
DTSTART:20230101T000000
END:STANDARD
END:VTIMEZONE
BEGIN:VEVENT
DTSTART;TZID=UTC:20240830T180000
DTEND;TZID=UTC:20240830T193000
DTSTAMP:20260423T021722
CREATED:20240716T170416Z
LAST-MODIFIED:20240716T211022Z
UID:5083-1725040800-1725046200@blinkhighend.com
SUMMARY:The Coolest Movie Tracks - Perlisten and more
DESCRIPTION:Experience the art of perceptual listening with some of your favorite movie tracks on Perlisten Products and more. \nWe are hosting this event to elevate your passion for listening to the music and movies you love. \nPerlisten is the story of a handful of discerning audiophiles who share the same passion and started a company with some of the finest talent in the industry and tons of industry awards to prove it. You won’t want to miss out on the chance to hear these breathtaking products. \nReservation is required. \nRSVP (617)225-0700 or office@blinkhighend.com\nBeverages and appetizers will be served.
URL:https://blinkhighend.com/event/the-coolest-movie-tracks-perlisten-and-more/
LOCATION:Blink High End\, 129 Franklin St\, Cambridge\, MA\, 02139\, United States
CATEGORIES:HiFi Days @ Blink High End
ATTACH;FMTTYPE=image/png:https://blinkhighend.com/wp-content/uploads/2024/07/Perlisten.png
END:VEVENT
END:VCALENDAR